BEGIN:VCALENDAR
VERSION:2.0
PRODID:-//217.160.0.129//NONSGML kigkonsult.se iCalcreator 2.20//
CALSCALE:GREGORIAN
METHOD:PUBLISH
X-WR-TIMEZONE:Europe/Berlin
BEGIN:VEVENT
UID:event7083@Eichelsdorf
DTSTAMP:20260421T115534Z
CATEGORIES:Freiwillige Feuerwehr Eichelsdorf
DESCRIPTION:Backhausfest\nVeranstalter: Freiwillige Feuerwehr Eichelsdorf\n
 ICS-Link: https://www.eichelsdorf.info/index.php?option=com_jem&view=event
 &id=7083:backhausfest\n
DTSTART;TZID=Europe/Berlin:20260425T130000
DTEND;TZID=Europe/Berlin:20260425T130000
LOCATION:Feuerwehrhaus\,Eichelstraße 8c\,63667 Nidda-Eichelsdorf
SUMMARY:Backhausfest
URL:https://www.eichelsdorf.info/index.php?option=com_jem&view=event&id=708
 3:backhausfest
END:VEVENT
END:VCALENDAR