BEGIN:VCALENDAR
VERSION:2.0
PRODID:-//217.160.0.129//NONSGML kigkonsult.se iCalcreator 2.20//
CALSCALE:GREGORIAN
METHOD:PUBLISH
X-WR-TIMEZONE:Europe/Berlin
BEGIN:VEVENT
UID:event7085@Eichelsdorf
DTSTAMP:20260425T142203Z
CATEGORIES:Kirchen Gemeinde
DESCRIPTION:Pfarrgartenfest\nVeranstalter: Kirchen Gemeinde\nICS-Link: http
 s://www.eichelsdorf.info/index.php?option=com_jem&view=event&id=7085:pfarr
 gartenfest\n
DTSTART;VALUE=DATE:20260607
DTEND;VALUE=DATE:20260608
LOCATION:Pfarrgarten\,Eichelstrasse\,63667 Nidda
SUMMARY:Pfarrgartenfest
URL:https://www.eichelsdorf.info/index.php?option=com_jem&view=event&id=708
 5:pfarrgartenfest
END:VEVENT
END:VCALENDAR